BEGIN:VCALENDAR
METHOD:PUBLISH
VERSION:2.0
CALSCALE:GREGORIAN
PRODID:-//NONSGML WPForms//NONSGML Sugar Calendar Feeds v3.11.0//EN
X-WR-CALNAME:Församlingsmöte
X-WR-CALDESC:
X-WR-TIMEZONE:Europe/Stockholm
BEGIN:VTIMEZONE
TZID:Europe/Stockholm
BEGIN:STANDARD
TZOFFSETFROM:+0200
TZOFFSETTO:+0100
DTSTART:20231029T010000
TZNAME:CET
END:STANDARD
END:VTIMEZONE
BEGIN:VTIMEZONE
TZID:Europe/Stockholm
BEGIN:STANDARD
TZOFFSETFROM:+0200
TZOFFSETTO:+0100
DTSTART:20231029T010000
TZNAME:CET
END:STANDARD
END:VTIMEZONE
BEGIN:VEVENT
SUMMARY:Församlingsmöte
DESCRIPTION:Församlingsmöte i Vasa\nSänds även på nätet \nOnsdag 
 7/2 kl 19.00
URL;VALUE=URI:https://vasakyrkan.nu/events/forsamlingsmote-6/
UID:urn:uuid:68efa114-5855-485b-925b-825e02414b2b
STATUS:CONFIRMED
ORGANIZER:
DTSTAMP:20260419T195135Z
DTSTART;TZID=Europe/Stockholm:20240207T190000
DTEND;TZID=Europe/Stockholm:20240207T210000
END:VEVENT
END:VCALENDAR