BEGIN:VCALENDAR
METHOD:PUBLISH
VERSION:2.0
CALSCALE:GREGORIAN
PRODID:-//NONSGML WPForms//NONSGML Sugar Calendar Feeds v3.11.0//EN
X-WR-CALNAME:Församlingsmöte
X-WR-CALDESC:
X-WR-TIMEZONE:Europe/Stockholm
BEGIN:VTIMEZONE
TZID:Europe/Stockholm
BEGIN:DAYLIGHT
TZOFFSETFROM:+0100
TZOFFSETTO:+0200
DTSTART:20230326T010000
TZNAME:CEST
END:DAYLIGHT
END:VTIMEZONE
BEGIN:VTIMEZONE
TZID:Europe/Stockholm
BEGIN:DAYLIGHT
TZOFFSETFROM:+0100
TZOFFSETTO:+0200
DTSTART:20230326T010000
TZNAME:CEST
END:DAYLIGHT
END:VTIMEZONE
BEGIN:VEVENT
SUMMARY:Församlingsmöte
DESCRIPTION:Församlingsmöte\nVi träffas i Vasakyrkan\nOnsdag kl 19.00
  (Bön kl 18)
URL;VALUE=URI:https://vasakyrkan.nu/events/forsamlingsbon-88/
UID:urn:uuid:c9c808cf-fd25-4404-b2d8-64dc6850a233
STATUS:CONFIRMED
ORGANIZER:
DTSTAMP:20260421T093500Z
DTSTART;TZID=Europe/Stockholm:20230920T190000
DTEND;TZID=Europe/Stockholm:20230920T203000
END:VEVENT
END:VCALENDAR