BEGIN:VCALENDAR
METHOD:PUBLISH
VERSION:2.0
CALSCALE:GREGORIAN
PRODID:-//NONSGML WPForms//NONSGML Sugar Calendar Feeds v3.11.0//EN
X-WR-CALNAME:Församlingsbön
X-WR-CALDESC:
X-WR-TIMEZONE:Europe/Stockholm
BEGIN:VTIMEZONE
TZID:Europe/Stockholm
BEGIN:DAYLIGHT
TZOFFSETFROM:+0100
TZOFFSETTO:+0200
DTSTART:20230326T010000
TZNAME:CEST
END:DAYLIGHT
END:VTIMEZONE
BEGIN:VTIMEZONE
TZID:Europe/Stockholm
BEGIN:DAYLIGHT
TZOFFSETFROM:+0100
TZOFFSETTO:+0200
DTSTART:20230326T010000
TZNAME:CEST
END:DAYLIGHT
END:VTIMEZONE
BEGIN:VEVENT
SUMMARY:Församlingsbön
DESCRIPTION:Församlingsbön\nVi träffas i Vasakyrkan\nOnsdag kl 18
URL;VALUE=URI:https://vasakyrkan.nu/events/forsamlingsbon-67/
UID:urn:uuid:131de7c3-21c7-4588-a0a4-bafeb778d447
STATUS:CONFIRMED
ORGANIZER:
DTSTAMP:20260421T115753Z
DTSTART;TZID=Europe/Stockholm:20230510T180000
DTEND;TZID=Europe/Stockholm:20230510T190000
END:VEVENT
END:VCALENDAR