BEGIN:VCALENDAR
METHOD:PUBLISH
VERSION:2.0
CALSCALE:GREGORIAN
PRODID:-//NONSGML WPForms//NONSGML Sugar Calendar Feeds v3.11.0//EN
X-WR-CALNAME:Församlingsbön
X-WR-CALDESC:
X-WR-TIMEZONE:Europe/Stockholm
BEGIN:VTIMEZONE
TZID:Europe/Stockholm
BEGIN:STANDARD
TZOFFSETFROM:+0200
TZOFFSETTO:+0100
DTSTART:20201025T010000
TZNAME:CET
END:STANDARD
END:VTIMEZONE
BEGIN:VTIMEZONE
TZID:Europe/Stockholm
BEGIN:STANDARD
TZOFFSETFROM:+0200
TZOFFSETTO:+0100
DTSTART:20201025T010000
TZNAME:CET
END:STANDARD
END:VTIMEZONE
BEGIN:VEVENT
SUMMARY:Församlingsbön
DESCRIPTION:Endast Digital bön via Google Meet\nhttps://meet.google.com
 /zwd-gxcz-bhg\nOnsdag 27 januari kl 18
URL;VALUE=URI:https://vasakyrkan.nu/events/forsamlingsbon-6/
UID:urn:uuid:75d4a083-ffed-4b76-bf45-77b93e54a082
STATUS:CONFIRMED
ORGANIZER:
DTSTAMP:20260422T085520Z
DTSTART;TZID=Europe/Stockholm:20210127T180000
DTEND;TZID=Europe/Stockholm:20210127T190000
END:VEVENT
END:VCALENDAR