BEGIN:VCALENDAR
METHOD:PUBLISH
VERSION:2.0
CALSCALE:GREGORIAN
PRODID:-//NONSGML WPForms//NONSGML Sugar Calendar Feeds v3.11.0//EN
X-WR-CALNAME:Församlingsbön
X-WR-CALDESC:
X-WR-TIMEZONE:Europe/Stockholm
BEGIN:VTIMEZONE
TZID:Europe/Stockholm
BEGIN:DAYLIGHT
TZOFFSETFROM:+0200
TZOFFSETTO:+0200
DTSTART:20210428T060000
TZNAME:CEST
END:DAYLIGHT
END:VTIMEZONE
BEGIN:VTIMEZONE
TZID:Europe/Stockholm
BEGIN:DAYLIGHT
TZOFFSETFROM:+0200
TZOFFSETTO:+0200
DTSTART:20210428T060000
TZNAME:CEST
END:DAYLIGHT
END:VTIMEZONE
BEGIN:VEVENT
SUMMARY:Församlingsbön
DESCRIPTION:I kyrkan - och via nätet\nLänk Församlingsbön\nOnsdag 27
  oktober kl 18
URL;VALUE=URI:https://vasakyrkan.nu/events/forsamlingsbon-30/
UID:urn:uuid:4c8b02c5-34c7-48ed-81a5-78630a265c8c
STATUS:CONFIRMED
ORGANIZER:
DTSTAMP:20260423T001154Z
DTSTART;TZID=Europe/Stockholm:20211027T180000
DTEND;TZID=Europe/Stockholm:20211027T190000
END:VEVENT
END:VCALENDAR