BEGIN:VCALENDAR
METHOD:PUBLISH
VERSION:2.0
CALSCALE:GREGORIAN
PRODID:-//NONSGML WPForms//NONSGML Sugar Calendar Feeds v3.11.0//EN
X-WR-CALNAME:Församlingsbön
X-WR-CALDESC:
X-WR-TIMEZONE:Europe/Stockholm
BEGIN:VTIMEZONE
TZID:Europe/Stockholm
BEGIN:DAYLIGHT
TZOFFSETFROM:+0100
TZOFFSETTO:+0200
DTSTART:20210328T010000
TZNAME:CEST
END:DAYLIGHT
END:VTIMEZONE
BEGIN:VTIMEZONE
TZID:Europe/Stockholm
BEGIN:DAYLIGHT
TZOFFSETFROM:+0100
TZOFFSETTO:+0200
DTSTART:20210328T010000
TZNAME:CEST
END:DAYLIGHT
END:VTIMEZONE
BEGIN:VEVENT
SUMMARY:Församlingsbön
DESCRIPTION:Endast via nätet\nLänk Församlingsbön\nOnsdag 4 augusti 
 kl 18
URL;VALUE=URI:https://vasakyrkan.nu/events/forsamlingsbon-19/
UID:urn:uuid:cd49200c-c3a3-4337-a12f-fc1e84511b2f
STATUS:CONFIRMED
ORGANIZER:
DTSTAMP:20260425T184859Z
DTSTART;TZID=Europe/Stockholm:20210804T180000
DTEND;TZID=Europe/Stockholm:20210804T190000
END:VEVENT
END:VCALENDAR