BEGIN:VCALENDAR
METHOD:PUBLISH
VERSION:2.0
CALSCALE:GREGORIAN
PRODID:-//NONSGML WPForms//NONSGML Sugar Calendar Feeds v3.11.0//EN
X-WR-CALNAME:Församlingsbön
X-WR-CALDESC:
X-WR-TIMEZONE:Europe/Stockholm
BEGIN:VTIMEZONE
TZID:Europe/Stockholm
BEGIN:DAYLIGHT
TZOFFSETFROM:+0100
TZOFFSETTO:+0200
DTSTART:20210328T010000
TZNAME:CEST
END:DAYLIGHT
END:VTIMEZONE
BEGIN:VTIMEZONE
TZID:Europe/Stockholm
BEGIN:DAYLIGHT
TZOFFSETFROM:+0100
TZOFFSETTO:+0200
DTSTART:20210328T010000
TZNAME:CEST
END:DAYLIGHT
END:VTIMEZONE
BEGIN:VEVENT
SUMMARY:Församlingsbön
DESCRIPTION:I kyrkan - och via nätet\nLänk Församlingsbön\nOnsdag 28
  juli kl 18
URL;VALUE=URI:https://vasakyrkan.nu/events/forsamlingsbon-18/
UID:urn:uuid:882604cd-054b-46b7-a8bf-eaf205a42502
STATUS:CONFIRMED
ORGANIZER:
DTSTAMP:20260425T171815Z
DTSTART;TZID=Europe/Stockholm:20210728T180000
DTEND;TZID=Europe/Stockholm:20210728T190000
END:VEVENT
END:VCALENDAR