BEGIN:VCALENDAR
METHOD:PUBLISH
VERSION:2.0
CALSCALE:GREGORIAN
PRODID:-//NONSGML WPForms//NONSGML Sugar Calendar Feeds v3.11.0//EN
X-WR-CALNAME:Förbön m Carina & Emil
X-WR-CALDESC:
X-WR-TIMEZONE:Europe/Stockholm
BEGIN:VTIMEZONE
TZID:Europe/Stockholm
BEGIN:STANDARD
TZOFFSETFROM:+0200
TZOFFSETTO:+0100
DTSTART:20201025T010000
TZNAME:CET
END:STANDARD
END:VTIMEZONE
BEGIN:VTIMEZONE
TZID:Europe/Stockholm
BEGIN:STANDARD
TZOFFSETFROM:+0200
TZOFFSETTO:+0100
DTSTART:20201025T010000
TZNAME:CET
END:STANDARD
END:VTIMEZONE
BEGIN:VEVENT
SUMMARY:Förbön m Carina & Emil
DESCRIPTION:Vi kopplar upp oss och betjänar varandra\nMer info: Digital
  förbönskväll\nLördag 27 mars kl 18:30
URL;VALUE=URI:https://vasakyrkan.nu/events/forbon-med-carina-emil-5/
UID:urn:uuid:c3778baa-a0eb-416c-9cee-e9a47b6a64eb
STATUS:CONFIRMED
ORGANIZER:
DTSTAMP:20260425T113113Z
DTSTART;TZID=Europe/Stockholm:20210327T183000
DTEND;TZID=Europe/Stockholm:20210327T193000
END:VEVENT
END:VCALENDAR