BEGIN:VCALENDAR
METHOD:PUBLISH
VERSION:2.0
CALSCALE:GREGORIAN
PRODID:-//NONSGML WPForms//NONSGML Sugar Calendar Feeds v3.11.0//EN
X-WR-CALNAME:Familjekyrka i Mossebo
X-WR-CALDESC:
X-WR-TIMEZONE:Europe/Stockholm
BEGIN:VTIMEZONE
TZID:Europe/Stockholm
BEGIN:STANDARD
TZOFFSETFROM:+0200
TZOFFSETTO:+0100
DTSTART:20231029T010000
TZNAME:CET
END:STANDARD
END:VTIMEZONE
BEGIN:VTIMEZONE
TZID:Europe/Stockholm
BEGIN:STANDARD
TZOFFSETFROM:+0200
TZOFFSETTO:+0100
DTSTART:20231029T010000
TZNAME:CET
END:STANDARD
END:VTIMEZONE
BEGIN:VEVENT
SUMMARY:Familjekyrka i Mossebo
DESCRIPTION:Familjekyrka\nLänk till mer information\nSöndag kl. 10 Mos
 sebo
URL;VALUE=URI:https://vasakyrkan.nu/events/familjekyrka-i-mossebo-4/
UID:urn:uuid:2b1472f8-0b72-49d5-9eed-228b63ce5df7
STATUS:CONFIRMED
ORGANIZER:
DTSTAMP:20260422T085432Z
DTSTART;TZID=Europe/Stockholm:20231119T100000
DTEND;TZID=Europe/Stockholm:20231119T120000
END:VEVENT
END:VCALENDAR