BEGIN:VCALENDAR
METHOD:PUBLISH
VERSION:2.0
CALSCALE:GREGORIAN
PRODID:-//NONSGML WPForms//NONSGML Sugar Calendar Feeds v3.11.0//EN
X-WR-CALNAME:Ekumenisk bön
X-WR-CALDESC:
X-WR-TIMEZONE:Europe/Stockholm
BEGIN:VTIMEZONE
TZID:Europe/Stockholm
BEGIN:STANDARD
TZOFFSETFROM:+0200
TZOFFSETTO:+0100
DTSTART:20201025T010000
TZNAME:CET
END:STANDARD
END:VTIMEZONE
BEGIN:VTIMEZONE
TZID:Europe/Stockholm
BEGIN:STANDARD
TZOFFSETFROM:+0200
TZOFFSETTO:+0100
DTSTART:20201025T010000
TZNAME:CET
END:STANDARD
END:VTIMEZONE
BEGIN:VEVENT
SUMMARY:Ekumenisk bön
DESCRIPTION:Ekumenisk bön 18-25 januari\nMer information\nBönegudstjä
 nst kl 19 via Zoom
URL;VALUE=URI:https://vasakyrkan.nu/events/ekumenisk-bon-4/
UID:urn:uuid:3a3e903a-ebe0-49ec-b682-729b94d07fa4
STATUS:CONFIRMED
ORGANIZER:
DTSTAMP:20260423T035139Z
DTSTART;TZID=Europe/Stockholm:20210121T190000
DTEND;TZID=Europe/Stockholm:20210121T200000
END:VEVENT
END:VCALENDAR