BEGIN:VCALENDAR
METHOD:PUBLISH
VERSION:2.0
CALSCALE:GREGORIAN
PRODID:-//NONSGML WPForms//NONSGML Sugar Calendar Feeds v3.11.0//EN
X-WR-CALNAME:Digital bön - Kalmarbönen
X-WR-CALDESC:
X-WR-TIMEZONE:Europe/Stockholm
BEGIN:VTIMEZONE
TZID:Europe/Stockholm
BEGIN:DAYLIGHT
TZOFFSETFROM:+0100
TZOFFSETTO:+0200
DTSTART:20240331T010000
TZNAME:CEST
END:DAYLIGHT
END:VTIMEZONE
BEGIN:VTIMEZONE
TZID:Europe/Stockholm
BEGIN:DAYLIGHT
TZOFFSETFROM:+0100
TZOFFSETTO:+0200
DTSTART:20240331T010000
TZNAME:CEST
END:DAYLIGHT
END:VTIMEZONE
BEGIN:VEVENT
SUMMARY:Digital bön - Kalmarbönen
DESCRIPTION:Digital bön - Kalmarbönen\nLänk till mötet - Mer informa
 tion\nTisdag 24 september 19.00
URL;VALUE=URI:https://vasakyrkan.nu/events/digital-bon-kalmarbonen/
UID:urn:uuid:9f427efc-4440-4b08-91b6-68c71f8ce89d
STATUS:CONFIRMED
ORGANIZER:
DTSTAMP:20260422T070031Z
DTSTART;TZID=Europe/Stockholm:20240924T190000
DTEND;TZID=Europe/Stockholm:20240924T200000
END:VEVENT
END:VCALENDAR