BEGIN:VCALENDAR
METHOD:PUBLISH
VERSION:2.0
CALSCALE:GREGORIAN
PRODID:-//NONSGML WPForms//NONSGML Sugar Calendar Feeds v3.11.0//EN
X-WR-CALNAME:Digital bÃ¶n
X-WR-CALDESC:
X-WR-TIMEZONE:Europe/Stockholm
BEGIN:VTIMEZONE
TZID:Europe/Stockholm
BEGIN:STANDARD
TZOFFSETFROM:+0200
TZOFFSETTO:+0100
DTSTART:20221030T010000
TZNAME:CET
END:STANDARD
END:VTIMEZONE
BEGIN:VTIMEZONE
TZID:Europe/Stockholm
BEGIN:STANDARD
TZOFFSETFROM:+0200
TZOFFSETTO:+0100
DTSTART:20221030T010000
TZNAME:CET
END:STANDARD
END:VTIMEZONE
BEGIN:VEVENT
SUMMARY:Digital bÃ¶n
DESCRIPTION:Kom med och bed!\nLÃ¤nk till bÃ¶nen â€“Â Mer information\nMÃ
 ¥ndag â€“ tisdag kl 18
URL;VALUE=URI:https://vasakyrkan.nu/events/digital-bon-2/
UID:urn:uuid:3b4e868e-b8ac-40e1-be03-ddf9a19e9c29
STATUS:CONFIRMED
ORGANIZER:
DTSTAMP:20260422T024124Z
DTSTART;TZID=Europe/Stockholm:20230102T180000
DTEND;TZID=Europe/Stockholm:20230102T180000
RRULE:FREQ=WEEKLY;INTERVAL=1;UNTIL=20230404T235959Z
END:VEVENT
END:VCALENDAR