BEGIN:VCALENDAR
METHOD:PUBLISH
VERSION:2.0
CALSCALE:GREGORIAN
PRODID:-//NONSGML WPForms//NONSGML Sugar Calendar Feeds v3.11.0//EN
X-WR-CALNAME:Digital bÃ¶n
X-WR-CALDESC:
X-WR-TIMEZONE:Europe/Stockholm
BEGIN:VTIMEZONE
TZID:Europe/Stockholm
BEGIN:STANDARD
TZOFFSETFROM:+0200
TZOFFSETTO:+0100
DTSTART:20241027T010000
TZNAME:CET
END:STANDARD
END:VTIMEZONE
BEGIN:VTIMEZONE
TZID:Europe/Stockholm
BEGIN:STANDARD
TZOFFSETFROM:+0200
TZOFFSETTO:+0100
DTSTART:20241027T010000
TZNAME:CET
END:STANDARD
END:VTIMEZONE
BEGIN:VEVENT
SUMMARY:Digital bÃ¶n
DESCRIPTION:Kom med och bed!\nLÃ¤nk till bÃ¶nen â€“Â Mer information\nMÃ
 ¥ndag â€“ tisdag kl 18
URL;VALUE=URI:https://vasakyrkan.nu/events/digital-bon-134/
UID:urn:uuid:f0d3de08-d9ab-4a3f-9f4c-448bcce631f2
STATUS:CONFIRMED
ORGANIZER:
DTSTAMP:20260422T024141Z
DTSTART;TZID=Europe/Stockholm:20241126T180000
DTEND;TZID=Europe/Stockholm:20241126T190000
END:VEVENT
END:VCALENDAR