BEGIN:VCALENDAR
METHOD:PUBLISH
VERSION:2.0
CALSCALE:GREGORIAN
PRODID:-//NONSGML WPForms//NONSGML Sugar Calendar Feeds v3.11.0//EN
X-WR-CALNAME:Digital bÃ¶n
X-WR-CALDESC:
X-WR-TIMEZONE:Europe/Stockholm
BEGIN:VTIMEZONE
TZID:Europe/Stockholm
BEGIN:DAYLIGHT
TZOFFSETFROM:+0200
TZOFFSETTO:+0200
DTSTART:20240423T060000
TZNAME:CEST
END:DAYLIGHT
END:VTIMEZONE
BEGIN:VTIMEZONE
TZID:Europe/Stockholm
BEGIN:DAYLIGHT
TZOFFSETFROM:+0200
TZOFFSETTO:+0200
DTSTART:20240423T060000
TZNAME:CEST
END:DAYLIGHT
END:VTIMEZONE
BEGIN:VEVENT
SUMMARY:Digital bÃ¶n
DESCRIPTION:Kom med och bed!\nLÃ¤nk till bÃ¶nen â€“Â Mer information\nMÃ
 ¥ndag â€“ tisdag kl 18
URL;VALUE=URI:https://vasakyrkan.nu/events/digital-bon-125/
UID:urn:uuid:5014e638-98a4-4441-bc40-a2fd9ce6d31d
STATUS:CONFIRMED
ORGANIZER:
DTSTAMP:20260426T021416Z
DTSTART;TZID=Europe/Stockholm:20241022T180000
DTEND;TZID=Europe/Stockholm:20241022T190000
END:VEVENT
END:VCALENDAR