BEGIN:VCALENDAR
METHOD:PUBLISH
VERSION:2.0
CALSCALE:GREGORIAN
PRODID:-//NONSGML WPForms//NONSGML Sugar Calendar Feeds v3.11.0//EN
X-WR-CALNAME:Bönesamling
X-WR-CALDESC:
X-WR-TIMEZONE:Europe/Stockholm
BEGIN:VTIMEZONE
TZID:Europe/Stockholm
BEGIN:STANDARD
TZOFFSETFROM:+0200
TZOFFSETTO:+0100
DTSTART:20201025T010000
TZNAME:CET
END:STANDARD
END:VTIMEZONE
BEGIN:VTIMEZONE
TZID:Europe/Stockholm
BEGIN:STANDARD
TZOFFSETFROM:+0200
TZOFFSETTO:+0100
DTSTART:20201025T010000
TZNAME:CET
END:STANDARD
END:VTIMEZONE
BEGIN:VEVENT
SUMMARY:Bönesamling
DESCRIPTION:Endast Digital bön via Google Meet\nLänk till Google Meet\
 nOnsdag 18 november kl 18.00
URL;VALUE=URI:https://vasakyrkan.nu/events/bonesamling-45/
UID:urn:uuid:4616588d-890e-4883-b32e-45ae9e244c50
STATUS:CONFIRMED
ORGANIZER:
DTSTAMP:20260421T223336Z
DTSTART;TZID=Europe/Stockholm:20201118T180000
DTEND;TZID=Europe/Stockholm:20201118T180000
END:VEVENT
END:VCALENDAR