BEGIN:VCALENDAR
METHOD:PUBLISH
VERSION:2.0
CALSCALE:GREGORIAN
PRODID:-//NONSGML WPForms//NONSGML Sugar Calendar Feeds v3.11.0//EN
X-WR-CALNAME:Bönekurs "Lär oss att be"
X-WR-CALDESC:
X-WR-TIMEZONE:Europe/Stockholm
BEGIN:VTIMEZONE
TZID:Europe/Stockholm
BEGIN:STANDARD
TZOFFSETFROM:+0200
TZOFFSETTO:+0100
DTSTART:20221030T010000
TZNAME:CET
END:STANDARD
END:VTIMEZONE
BEGIN:VTIMEZONE
TZID:Europe/Stockholm
BEGIN:STANDARD
TZOFFSETFROM:+0200
TZOFFSETTO:+0100
DTSTART:20221030T010000
TZNAME:CET
END:STANDARD
END:VTIMEZONE
BEGIN:VEVENT
SUMMARY:Bönekurs "Lär oss att be"
DESCRIPTION:INSTÄLLT\nONSDAG 1 februari\nVi ses igen 15 februari
URL;VALUE=URI:https://vasakyrkan.nu/events/bonekurs-lar-oss-att-be-2/
UID:urn:uuid:bf956073-48c8-4a40-b344-3bc4f90f9c3c
STATUS:CONFIRMED
ORGANIZER:
DTSTAMP:20260425T162134Z
DTSTART;TZID=Europe/Stockholm:20230201T190000
DTEND;TZID=Europe/Stockholm:20230201T203000
END:VEVENT
END:VCALENDAR