BEGIN:VCALENDAR
METHOD:PUBLISH
VERSION:2.0
CALSCALE:GREGORIAN
PRODID:-//NONSGML WPForms//NONSGML Sugar Calendar Feeds v3.11.0//EN
X-WR-CALNAME:Bön via nätet
X-WR-CALDESC:
X-WR-TIMEZONE:Europe/Stockholm
BEGIN:VTIMEZONE
TZID:Europe/Stockholm
BEGIN:STANDARD
TZOFFSETFROM:+0200
TZOFFSETTO:+0100
DTSTART:20211031T010000
TZNAME:CET
END:STANDARD
END:VTIMEZONE
BEGIN:VTIMEZONE
TZID:Europe/Stockholm
BEGIN:STANDARD
TZOFFSETFROM:+0200
TZOFFSETTO:+0100
DTSTART:20211031T010000
TZNAME:CET
END:STANDARD
END:VTIMEZONE
BEGIN:VEVENT
SUMMARY:Bön via nätet
DESCRIPTION:Endast digital bön via Google Meet\nLänk till bönen\nTisd
 ag 23 november kl 18
URL;VALUE=URI:https://vasakyrkan.nu/events/bon-via-natet-15/
UID:urn:uuid:cab8db8d-fe7a-4b88-8b54-b7a9f93c2e78
STATUS:CONFIRMED
ORGANIZER:
DTSTAMP:20260420T083810Z
DTSTART;TZID=Europe/Stockholm:20211123T180000
DTEND;TZID=Europe/Stockholm:20211123T190000
END:VEVENT
END:VCALENDAR