BEGIN:VCALENDAR
METHOD:PUBLISH
VERSION:2.0
CALSCALE:GREGORIAN
PRODID:-//NONSGML WPForms//NONSGML Sugar Calendar Feeds v3.11.0//EN
X-WR-CALNAME:Bön tisdag
X-WR-CALDESC:
X-WR-TIMEZONE:Europe/Stockholm
BEGIN:VTIMEZONE
TZID:Europe/Stockholm
BEGIN:DAYLIGHT
TZOFFSETFROM:+0100
TZOFFSETTO:+0200
DTSTART:20220327T010000
TZNAME:CEST
END:DAYLIGHT
END:VTIMEZONE
BEGIN:VTIMEZONE
TZID:Europe/Stockholm
BEGIN:DAYLIGHT
TZOFFSETFROM:+0100
TZOFFSETTO:+0200
DTSTART:20220327T010000
TZNAME:CEST
END:DAYLIGHT
END:VTIMEZONE
BEGIN:VEVENT
SUMMARY:Bön tisdag
DESCRIPTION:Kom med och bed!\nLänk till bönen – Mer information\nTi
 sdag kl 18
URL;VALUE=URI:https://vasakyrkan.nu/events/bon-tisdag/
UID:urn:uuid:1c5670f1-2220-4d7a-8c5f-32cb672b5805
STATUS:CONFIRMED
ORGANIZER:
DTSTAMP:20260425T201908Z
DTSTART;TZID=Europe/Stockholm:20220607T180000
DTEND;TZID=Europe/Stockholm:20220607T190000
END:VEVENT
END:VCALENDAR