BEGIN:VCALENDAR
METHOD:PUBLISH
VERSION:2.0
CALSCALE:GREGORIAN
PRODID:-//NONSGML WPForms//NONSGML Sugar Calendar Feeds v3.11.0//EN
X-WR-CALNAME:Bön och fika
X-WR-CALDESC:
X-WR-TIMEZONE:Europe/Stockholm
BEGIN:VTIMEZONE
TZID:Europe/Stockholm
BEGIN:STANDARD
TZOFFSETFROM:+0200
TZOFFSETTO:+0100
DTSTART:20221030T010000
TZNAME:CET
END:STANDARD
BEGIN:DAYLIGHT
TZOFFSETFROM:+0100
TZOFFSETTO:+0200
DTSTART:20230326T010000
TZNAME:CEST
END:DAYLIGHT
END:VTIMEZONE
BEGIN:VTIMEZONE
TZID:Europe/Stockholm
BEGIN:STANDARD
TZOFFSETFROM:+0200
TZOFFSETTO:+0100
DTSTART:20221030T010000
TZNAME:CET
END:STANDARD
BEGIN:DAYLIGHT
TZOFFSETFROM:+0100
TZOFFSETTO:+0200
DTSTART:20230326T010000
TZNAME:CEST
END:DAYLIGHT
END:VTIMEZONE
BEGIN:VEVENT
SUMMARY:Bön och fika
DESCRIPTION:Bön i Vasakyrkan\nOnsdagar kl 9.30\nEfter bönen fikar vi t
 illsammans
URL;VALUE=URI:https://vasakyrkan.nu/events/bon-och-fika-58/
UID:urn:uuid:43d3efc2-cec7-494d-a1a9-810b7d5e9023
STATUS:CONFIRMED
ORGANIZER:
DTSTAMP:20260419T122038Z
DTSTART;TZID=Europe/Stockholm:20230405T093000
DTEND;TZID=Europe/Stockholm:20230405T113000
END:VEVENT
END:VCALENDAR