BEGIN:VCALENDAR
METHOD:PUBLISH
VERSION:2.0
CALSCALE:GREGORIAN
PRODID:-//NONSGML WPForms//NONSGML Sugar Calendar Feeds v3.11.0//EN
X-WR-CALNAME:Bön och fika
X-WR-CALDESC:
X-WR-TIMEZONE:Europe/Stockholm
BEGIN:VTIMEZONE
TZID:Europe/Stockholm
BEGIN:DAYLIGHT
TZOFFSETFROM:+0100
TZOFFSETTO:+0200
DTSTART:20210328T010000
TZNAME:CEST
END:DAYLIGHT
END:VTIMEZONE
BEGIN:VTIMEZONE
TZID:Europe/Stockholm
BEGIN:DAYLIGHT
TZOFFSETFROM:+0100
TZOFFSETTO:+0200
DTSTART:20210328T010000
TZNAME:CEST
END:DAYLIGHT
END:VTIMEZONE
BEGIN:VEVENT
SUMMARY:Bön och fika
DESCRIPTION:Bön i Vasakyrkan\nOnsdagar kl 9.30\nEfter bönen fikar vi t
 illsammans
URL;VALUE=URI:https://vasakyrkan.nu/events/bon-och-fika-2/
UID:urn:uuid:d6a30aba-ea4b-4444-a95e-b61af2589c5d
STATUS:CONFIRMED
ORGANIZER:
DTSTAMP:20260423T020505Z
DTSTART;TZID=Europe/Stockholm:20210714T093000
DTEND;TZID=Europe/Stockholm:20210714T110000
END:VEVENT
END:VCALENDAR