BEGIN:VCALENDAR
METHOD:PUBLISH
VERSION:2.0
CALSCALE:GREGORIAN
PRODID:-//NONSGML WPForms//NONSGML Sugar Calendar Feeds v3.11.0//EN
X-WR-CALNAME:Bön för Kalmar
X-WR-CALDESC:
X-WR-TIMEZONE:Europe/Stockholm
BEGIN:VTIMEZONE
TZID:Europe/Stockholm
BEGIN:STANDARD
TZOFFSETFROM:+0200
TZOFFSETTO:+0100
DTSTART:20241027T010000
TZNAME:CET
END:STANDARD
END:VTIMEZONE
BEGIN:VTIMEZONE
TZID:Europe/Stockholm
BEGIN:STANDARD
TZOFFSETFROM:+0200
TZOFFSETTO:+0100
DTSTART:20241027T010000
TZNAME:CET
END:STANDARD
END:VTIMEZONE
BEGIN:VEVENT
SUMMARY:Bön för Kalmar
DESCRIPTION:Bön för Kalmar - ekumeniskt\nVasakyrkan\nSöndag 17 nov. k
 l 16  Mer info
URL;VALUE=URI:https://vasakyrkan.nu/events/bon-for-kalmar-8/
UID:urn:uuid:c93f0089-a28c-418e-8d2b-ce3a7889565e
STATUS:CONFIRMED
ORGANIZER:
DTSTAMP:20260422T053225Z
DTSTART;TZID=Europe/Stockholm:20241117T160000
DTEND;TZID=Europe/Stockholm:20241117T173000
END:VEVENT
END:VCALENDAR