BEGIN:VCALENDAR
METHOD:PUBLISH
VERSION:2.0
CALSCALE:GREGORIAN
PRODID:-//NONSGML WPForms//NONSGML Sugar Calendar Feeds v3.11.0//EN
X-WR-CALNAME:Bön för Kalmar
X-WR-CALDESC:
X-WR-TIMEZONE:Europe/Stockholm
BEGIN:VTIMEZONE
TZID:Europe/Stockholm
BEGIN:DAYLIGHT
TZOFFSETFROM:+0100
TZOFFSETTO:+0200
DTSTART:20240331T010000
TZNAME:CEST
END:DAYLIGHT
END:VTIMEZONE
BEGIN:VTIMEZONE
TZID:Europe/Stockholm
BEGIN:DAYLIGHT
TZOFFSETFROM:+0100
TZOFFSETTO:+0200
DTSTART:20240331T010000
TZNAME:CEST
END:DAYLIGHT
END:VTIMEZONE
BEGIN:VEVENT
SUMMARY:Bön för Kalmar
DESCRIPTION:Bön för Kalmar - ekumeniskt\nVästerportkyrkan\nSöndag 22
  september 16.00  Mer info
URL;VALUE=URI:https://vasakyrkan.nu/events/bon-for-kalmar-6/
UID:urn:uuid:5ec01352-4b65-4cad-8b4b-7104b7a5589d
STATUS:CONFIRMED
ORGANIZER:
DTSTAMP:20260422T023830Z
DTSTART;TZID=Europe/Stockholm:20240922T160000
DTEND;TZID=Europe/Stockholm:20240922T173000
END:VEVENT
END:VCALENDAR