BEGIN:VCALENDAR
METHOD:PUBLISH
VERSION:2.0
CALSCALE:GREGORIAN
PRODID:-//NONSGML WPForms//NONSGML Sugar Calendar Feeds v3.11.0//EN
X-WR-CALNAME:Bön för EFS & Salt
X-WR-CALDESC:
X-WR-TIMEZONE:Europe/Stockholm
BEGIN:VTIMEZONE
TZID:Europe/Stockholm
BEGIN:DAYLIGHT
TZOFFSETFROM:+0100
TZOFFSETTO:+0200
DTSTART:20240331T010000
TZNAME:CEST
END:DAYLIGHT
END:VTIMEZONE
BEGIN:VTIMEZONE
TZID:Europe/Stockholm
BEGIN:DAYLIGHT
TZOFFSETFROM:+0100
TZOFFSETTO:+0200
DTSTART:20240331T010000
TZNAME:CEST
END:DAYLIGHT
END:VTIMEZONE
BEGIN:VEVENT
SUMMARY:Bön för EFS & Salt
DESCRIPTION:Bön för EFS &amp\; Salt\nLänk till mötet - Mer informati
 on\nVarje söndag kl 20-21
URL;VALUE=URI:https://vasakyrkan.nu/events/bon-for-efs-salt-94/
UID:urn:uuid:6a5a4c23-7dc6-4eb2-9740-aed87607c434
STATUS:CONFIRMED
ORGANIZER:
DTSTAMP:20260422T084901Z
DTSTART;TZID=Europe/Stockholm:20240609T200000
DTEND;TZID=Europe/Stockholm:20240609T210000
END:VEVENT
END:VCALENDAR