BEGIN:VCALENDAR
METHOD:PUBLISH
VERSION:2.0
CALSCALE:GREGORIAN
PRODID:-//NONSGML WPForms//NONSGML Sugar Calendar Feeds v3.11.0//EN
X-WR-CALNAME:Bön för EFS & SALT
X-WR-CALDESC:
X-WR-TIMEZONE:Europe/Stockholm
BEGIN:VTIMEZONE
TZID:Europe/Stockholm
BEGIN:STANDARD
TZOFFSETFROM:+0200
TZOFFSETTO:+0100
DTSTART:20211031T010000
TZNAME:CET
END:STANDARD
END:VTIMEZONE
BEGIN:VTIMEZONE
TZID:Europe/Stockholm
BEGIN:STANDARD
TZOFFSETFROM:+0200
TZOFFSETTO:+0100
DTSTART:20211031T010000
TZNAME:CET
END:STANDARD
END:VTIMEZONE
BEGIN:VEVENT
SUMMARY:Bön för EFS & SALT
DESCRIPTION:Vi fortsätter be för EFS &amp\; Salt\nLänk till mötet\nV
 arje söndag kl 18-19
URL;VALUE=URI:https://vasakyrkan.nu/events/bon-for-efs-salt-7/
UID:urn:uuid:8e0f7a5c-0a88-4a92-a4ac-3149ed121142
STATUS:CONFIRMED
ORGANIZER:
DTSTAMP:20260422T172810Z
DTSTART;TZID=Europe/Stockholm:20211114T180000
DTEND;TZID=Europe/Stockholm:20211114T190000
END:VEVENT
END:VCALENDAR