BEGIN:VCALENDAR
METHOD:PUBLISH
VERSION:2.0
CALSCALE:GREGORIAN
PRODID:-//NONSGML WPForms//NONSGML Sugar Calendar Feeds v3.11.0//EN
X-WR-CALNAME:Bön för EFS & Salt
X-WR-CALDESC:
X-WR-TIMEZONE:Europe/Stockholm
BEGIN:VTIMEZONE
TZID:Europe/Stockholm
BEGIN:STANDARD
TZOFFSETFROM:+0200
TZOFFSETTO:+0100
DTSTART:20251026T010000
TZNAME:CET
END:STANDARD
END:VTIMEZONE
BEGIN:VTIMEZONE
TZID:Europe/Stockholm
BEGIN:STANDARD
TZOFFSETFROM:+0200
TZOFFSETTO:+0100
DTSTART:20251026T010000
TZNAME:CET
END:STANDARD
END:VTIMEZONE
BEGIN:VEVENT
SUMMARY:Bön för EFS & Salt
DESCRIPTION:Bön för EFS &amp\; Salt\nLänk till mötet - Mer informati
 on\nVarje söndag kl 20-21
URL;VALUE=URI:https://vasakyrkan.nu/events/bon-for-efs-salt-147/
UID:urn:uuid:17f67b5a-23fd-4ed5-af10-0317f066c555
STATUS:CONFIRMED
ORGANIZER:
DTSTAMP:20260422T085314Z
DTSTART;TZID=Europe/Stockholm:20260118T200000
DTEND;TZID=Europe/Stockholm:20260118T210000
END:VEVENT
END:VCALENDAR