BEGIN:VCALENDAR
METHOD:PUBLISH
VERSION:2.0
CALSCALE:GREGORIAN
PRODID:-//NONSGML WPForms//NONSGML Sugar Calendar Feeds v3.11.0//EN
X-WR-CALNAME:Bön
X-WR-CALDESC:
X-WR-TIMEZONE:Europe/Stockholm
BEGIN:VTIMEZONE
TZID:Europe/Stockholm
BEGIN:STANDARD
TZOFFSETFROM:+0200
TZOFFSETTO:+0100
DTSTART:20201025T010000
TZNAME:CET
END:STANDARD
END:VTIMEZONE
BEGIN:VTIMEZONE
TZID:Europe/Stockholm
BEGIN:STANDARD
TZOFFSETFROM:+0200
TZOFFSETTO:+0100
DTSTART:20201025T010000
TZNAME:CET
END:STANDARD
END:VTIMEZONE
BEGIN:VEVENT
SUMMARY:Bön
DESCRIPTION:Endast digital bön via Google Meet\nVi kopplar upp oss och 
 ber tillsammans!\nTisdag 22 december kl 18
URL;VALUE=URI:https://vasakyrkan.nu/events/bon-5/
UID:urn:uuid:f897bf90-4142-4db4-99c7-647793fa9acc
STATUS:CONFIRMED
ORGANIZER:
DTSTAMP:20260422T081450Z
DTSTART;TZID=Europe/Stockholm:20201222T180000
DTEND;TZID=Europe/Stockholm:20201222T190000
END:VEVENT
END:VCALENDAR