BEGIN:VCALENDAR
METHOD:PUBLISH
VERSION:2.0
CALSCALE:GREGORIAN
PRODID:-//NONSGML WPForms//NONSGML Sugar Calendar Feeds v3.11.0//EN
X-WR-CALNAME:Bön
X-WR-CALDESC:
X-WR-TIMEZONE:Europe/Stockholm
BEGIN:VTIMEZONE
TZID:Europe/Stockholm
BEGIN:STANDARD
TZOFFSETFROM:+0200
TZOFFSETTO:+0100
DTSTART:20201025T010000
TZNAME:CET
END:STANDARD
BEGIN:DAYLIGHT
TZOFFSETFROM:+0100
TZOFFSETTO:+0200
DTSTART:20210328T010000
TZNAME:CEST
END:DAYLIGHT
END:VTIMEZONE
BEGIN:VTIMEZONE
TZID:Europe/Stockholm
BEGIN:STANDARD
TZOFFSETFROM:+0200
TZOFFSETTO:+0100
DTSTART:20201025T010000
TZNAME:CET
END:STANDARD
BEGIN:DAYLIGHT
TZOFFSETFROM:+0100
TZOFFSETTO:+0200
DTSTART:20210328T010000
TZNAME:CEST
END:DAYLIGHT
END:VTIMEZONE
BEGIN:VEVENT
SUMMARY:Bön
DESCRIPTION:Endast digital bön via Google Meet\nVi ber tillsammans!\nTi
 sdag 6 april kl 18
URL;VALUE=URI:https://vasakyrkan.nu/events/bon-19/
UID:urn:uuid:96b0b02d-7c67-4c74-ac09-55267572772e
STATUS:CONFIRMED
ORGANIZER:
DTSTAMP:20260421T210302Z
DTSTART;TZID=Europe/Stockholm:20210406T180000
DTEND;TZID=Europe/Stockholm:20210406T190000
END:VEVENT
END:VCALENDAR