BEGIN:VCALENDAR
METHOD:PUBLISH
VERSION:2.0
CALSCALE:GREGORIAN
PRODID:-//NONSGML WPForms//NONSGML Sugar Calendar Feeds v3.11.0//EN
X-WR-CALNAME:Bibelkväll
X-WR-CALDESC:
X-WR-TIMEZONE:Europe/Stockholm
BEGIN:VTIMEZONE
TZID:Europe/Stockholm
BEGIN:STANDARD
TZOFFSETFROM:+0200
TZOFFSETTO:+0100
DTSTART:20251026T010000
TZNAME:CET
END:STANDARD
END:VTIMEZONE
BEGIN:VTIMEZONE
TZID:Europe/Stockholm
BEGIN:STANDARD
TZOFFSETFROM:+0200
TZOFFSETTO:+0100
DTSTART:20251026T010000
TZNAME:CET
END:STANDARD
END:VTIMEZONE
BEGIN:VEVENT
SUMMARY:Bibelkväll
DESCRIPTION:Bibelkväll med Sara Spencer\n"Nära Jesus"\nLördag 14/3 kl
  17 o 19
URL;VALUE=URI:https://vasakyrkan.nu/events/bibelkvall/
UID:urn:uuid:3bb11ad2-822d-461e-a88a-b0242e65deba
STATUS:CONFIRMED
ORGANIZER:
DTSTAMP:20260421T192803Z
DTSTART;TZID=Europe/Stockholm:20260314T170000
DTEND;TZID=Europe/Stockholm:20260314T200000
END:VEVENT
END:VCALENDAR