BEGIN:VCALENDAR
METHOD:PUBLISH
VERSION:2.0
CALSCALE:GREGORIAN
PRODID:-//NONSGML WPForms//NONSGML Sugar Calendar Feeds v3.11.0//EN
X-WR-CALNAME:Bibeldagar K G Larsson
X-WR-CALDESC:
X-WR-TIMEZONE:Europe/Stockholm
BEGIN:VTIMEZONE
TZID:Europe/Stockholm
BEGIN:DAYLIGHT
TZOFFSETFROM:+0100
TZOFFSETTO:+0200
DTSTART:20220327T010000
TZNAME:CEST
END:DAYLIGHT
END:VTIMEZONE
BEGIN:VTIMEZONE
TZID:Europe/Stockholm
BEGIN:DAYLIGHT
TZOFFSETFROM:+0100
TZOFFSETTO:+0200
DTSTART:20220327T010000
TZNAME:CEST
END:DAYLIGHT
END:VTIMEZONE
BEGIN:VEVENT
SUMMARY:Bibeldagar K G Larsson
DESCRIPTION:Israel\, Profetiorna\, ton från Himlen\n26-28 augusti 2022\
 nFre kl 19\, Lör kl 16 o 19\, sön kl 10
URL;VALUE=URI:https://vasakyrkan.nu/events/bibeldagar-k-g-larsson/
UID:urn:uuid:7eff7958-7312-43b1-8220-bf7ebfed9a0e
STATUS:CONFIRMED
ORGANIZER:
DTSTAMP:20260422T212040Z
DTSTART;TZID=Europe/Stockholm:20220826T190000
DTEND;TZID=Europe/Stockholm:20220828T100000
END:VEVENT
END:VCALENDAR