BEGIN:VCALENDAR
METHOD:PUBLISH
VERSION:2.0
CALSCALE:GREGORIAN
PRODID:-//NONSGML WPForms//NONSGML Sugar Calendar Feeds v3.11.0//EN
X-WR-CALNAME:Barnkyrka
X-WR-CALDESC:
X-WR-TIMEZONE:Europe/Stockholm
BEGIN:VTIMEZONE
TZID:Europe/Stockholm
BEGIN:STANDARD
TZOFFSETFROM:+0200
TZOFFSETTO:+0100
DTSTART:20231029T010000
TZNAME:CET
END:STANDARD
END:VTIMEZONE
BEGIN:VTIMEZONE
TZID:Europe/Stockholm
BEGIN:STANDARD
TZOFFSETFROM:+0200
TZOFFSETTO:+0100
DTSTART:20231029T010000
TZNAME:CET
END:STANDARD
END:VTIMEZONE
BEGIN:VEVENT
SUMMARY:Barnkyrka
DESCRIPTION:Barnkyrka\nLänk till mer information\nSöndagar kl. 10
URL;VALUE=URI:https://vasakyrkan.nu/events/barnkyrka-44/
UID:urn:uuid:6f1d8ecf-848a-47f5-94a9-acc3337fda9a
STATUS:CONFIRMED
ORGANIZER:
DTSTAMP:20260421T180152Z
DTSTART;TZID=Europe/Stockholm:20240114T100000
DTEND;TZID=Europe/Stockholm:20240114T113000
END:VEVENT
END:VCALENDAR