BEGIN:VCALENDAR
METHOD:PUBLISH
VERSION:2.0
CALSCALE:GREGORIAN
PRODID:-//NONSGML WPForms//NONSGML Sugar Calendar Feeds v3.11.0//EN
X-WR-CALNAME:Barnkyrka
X-WR-CALDESC:
X-WR-TIMEZONE:Europe/Stockholm
BEGIN:VTIMEZONE
TZID:Europe/Stockholm
BEGIN:STANDARD
TZOFFSETFROM:+0200
TZOFFSETTO:+0100
DTSTART:20221030T010000
TZNAME:CET
END:STANDARD
BEGIN:DAYLIGHT
TZOFFSETFROM:+0100
TZOFFSETTO:+0200
DTSTART:20230326T010000
TZNAME:CEST
END:DAYLIGHT
END:VTIMEZONE
BEGIN:VTIMEZONE
TZID:Europe/Stockholm
BEGIN:STANDARD
TZOFFSETFROM:+0200
TZOFFSETTO:+0100
DTSTART:20221030T010000
TZNAME:CET
END:STANDARD
BEGIN:DAYLIGHT
TZOFFSETFROM:+0100
TZOFFSETTO:+0200
DTSTART:20230326T010000
TZNAME:CEST
END:DAYLIGHT
END:VTIMEZONE
BEGIN:VEVENT
SUMMARY:Barnkyrka
DESCRIPTION:Barnkyrka\nLänk till mer information\nSöndagar kl. 10
URL;VALUE=URI:https://vasakyrkan.nu/events/barnkyrka-28/
UID:urn:uuid:3f210af3-2b58-46a7-8522-d61489d73ef7
STATUS:CONFIRMED
ORGANIZER:
DTSTAMP:20260422T094335Z
DTSTART;TZID=Europe/Stockholm:20230416T100000
DTEND;TZID=Europe/Stockholm:20230416T113000
END:VEVENT
END:VCALENDAR