BEGIN:VCALENDAR
METHOD:PUBLISH
VERSION:2.0
CALSCALE:GREGORIAN
PRODID:-//NONSGML WPForms//NONSGML Sugar Calendar Feeds v3.11.0//EN
X-WR-CALNAME:Barnkyrkan
X-WR-CALDESC:
X-WR-TIMEZONE:Europe/Stockholm
BEGIN:VTIMEZONE
TZID:Europe/Stockholm
BEGIN:DAYLIGHT
TZOFFSETFROM:+0100
TZOFFSETTO:+0200
DTSTART:20220327T010000
TZNAME:CEST
END:DAYLIGHT
END:VTIMEZONE
BEGIN:VTIMEZONE
TZID:Europe/Stockholm
BEGIN:DAYLIGHT
TZOFFSETFROM:+0100
TZOFFSETTO:+0200
DTSTART:20220327T010000
TZNAME:CEST
END:DAYLIGHT
END:VTIMEZONE
BEGIN:VEVENT
SUMMARY:Barnkyrkan
DESCRIPTION:Barnkyrkan\nLänk för mer information\nSommaravslutning på
  Gynge - 12 juni
URL;VALUE=URI:https://vasakyrkan.nu/events/barnkyra-3/
UID:urn:uuid:4e423aa8-5246-4a03-ba56-f78a06fd62bc
STATUS:CONFIRMED
ORGANIZER:
DTSTAMP:20260421T221241Z
DTSTART;TZID=Europe/Stockholm:20220612T100000
DTEND;TZID=Europe/Stockholm:20220612T100000
END:VEVENT
END:VCALENDAR