BEGIN:VCALENDAR
METHOD:PUBLISH
VERSION:2.0
CALSCALE:GREGORIAN
PRODID:-//NONSGML WPForms//NONSGML Sugar Calendar Feeds v3.11.0//EN
X-WR-CALNAME:Alphakursen
X-WR-CALDESC:
X-WR-TIMEZONE:Europe/Stockholm
BEGIN:VTIMEZONE
TZID:Europe/Stockholm
BEGIN:STANDARD
TZOFFSETFROM:+0200
TZOFFSETTO:+0100
DTSTART:20241027T010000
TZNAME:CET
END:STANDARD
END:VTIMEZONE
BEGIN:VTIMEZONE
TZID:Europe/Stockholm
BEGIN:STANDARD
TZOFFSETFROM:+0200
TZOFFSETTO:+0100
DTSTART:20241027T010000
TZNAME:CET
END:STANDARD
END:VTIMEZONE
BEGIN:VEVENT
SUMMARY:Alphakursen
DESCRIPTION:Mat - temafilm - samtal\nHär finns mer info\n18/3 kl 18.30\
 , "Vem är Jesus?"
URL;VALUE=URI:https://vasakyrkan.nu/events/alphakursen/
UID:urn:uuid:63f1493f-a871-4871-a88c-273d375f97ed
STATUS:CONFIRMED
ORGANIZER:
DTSTAMP:20260422T101955Z
DTSTART;TZID=Europe/Stockholm:20250318T183000
DTEND;TZID=Europe/Stockholm:20250318T203000
END:VEVENT
END:VCALENDAR