BEGIN:VCALENDAR
METHOD:PUBLISH
VERSION:2.0
CALSCALE:GREGORIAN
PRODID:-//NONSGML WPForms//NONSGML Sugar Calendar Feeds v3.11.0//EN
X-WR-CALNAME:Gudstjänst
X-WR-CALDESC:
X-WR-TIMEZONE:Europe/Stockholm
BEGIN:VTIMEZONE
TZID:Europe/Stockholm
BEGIN:DAYLIGHT
TZOFFSETFROM:+0100
TZOFFSETTO:+0200
DTSTART:20230326T010000
TZNAME:CEST
END:DAYLIGHT
END:VTIMEZONE
BEGIN:VTIMEZONE
TZID:Europe/Stockholm
BEGIN:DAYLIGHT
TZOFFSETFROM:+0100
TZOFFSETTO:+0200
DTSTART:20230326T010000
TZNAME:CEST
END:DAYLIGHT
END:VTIMEZONE
BEGIN:VEVENT
SUMMARY:Gudstjänst
DESCRIPTION:Robert Ekström predikar\nLänk till webbgudstjänsten.\nSö
 ndag 13 augusti kl 10
URL;VALUE=URI:https://vasakyrkan.nu/events/6800/
UID:urn:uuid:26499397-185a-4df7-95df-0f6f623fd4c1
STATUS:CONFIRMED
ORGANIZER:
DTSTAMP:20260425T215633Z
DTSTART;TZID=Europe/Stockholm:20230813T100000
DTEND;TZID=Europe/Stockholm:20230813T111500
END:VEVENT
END:VCALENDAR